BEGIN:VCALENDAR
VERSION:2.0
PRODID:-//ChamberMaster//Event Calendar 2.0//EN
METHOD:PUBLISH
X-PUBLISHED-TTL:P3D
REFRESH-INTERVAL:P3D
CALSCALE:GREGORIAN
BEGIN:VEVENT
DTSTART:20260616T210000Z
DTEND:20260616T230000Z
X-MICROSOFT-CDO-ALLDAYEVENT:FALSE
SUMMARY:Business After Hours at Precision Machine
DESCRIPTION:Join us for a Business After Hours! \n\nRelax after work! \n\nNetwork!
X-ALT-DESC;FMTTYPE=text/html:Join us for a Business After Hours!&nbsp\;<br />\nRelax after work!&nbsp\;<br />\nNetwork!&nbsp\;<br />\n&nbsp\;
LOCATION:Hosted at Various Chamber Member Venue locations If your business is interested in hosting a Business Before or After Hours\, please contact the Chamber Precision Machine 1133 North Main Street Fountain Inn
UID:e.3566.1654
SEQUENCE:3
DTSTAMP:20260424T082545Z
URL:https://members.fountaininnchamber.org/events/details/business-after-hours-at-precision-machine-1654
END:VEVENT

END:VCALENDAR
