BEGIN:VCALENDAR
VERSION:2.0
PRODID:-//ChamberMaster//Event Calendar 2.0//EN
METHOD:PUBLISH
X-PUBLISHED-TTL:P3D
REFRESH-INTERVAL:P3D
CALSCALE:GREGORIAN
BEGIN:VEVENT
DTSTART:20260526T123000Z
DTEND:20260526T133000Z
X-MICROSOFT-CDO-ALLDAYEVENT:FALSE
SUMMARY:Business Before Hours at Fisher Barns
DESCRIPTION:Join us for a Business Before Hours at Fisher Barns
X-ALT-DESC;FMTTYPE=text/html:Join us for a Business Before Hours at Fisher Barns
LOCATION:Fisher Barns 101 Greenpond Rd. Corner of 418 & Milacron Drive
UID:e.3566.1730
SEQUENCE:3
DTSTAMP:20260421T221020Z
URL:https://members.fountaininnchamber.org/events/details/business-before-hours-at-fisher-barns-1730
END:VEVENT

END:VCALENDAR
