BEGIN:VCALENDAR
VERSION:2.0
PRODID:-//ChamberMaster//Event Calendar 2.0//EN
METHOD:PUBLISH
X-PUBLISHED-TTL:P3D
REFRESH-INTERVAL:P3D
CALSCALE:GREGORIAN
BEGIN:VEVENT
DTSTART:20260506T160000Z
DTEND:20260506T173000Z
X-MICROSOFT-CDO-ALLDAYEVENT:FALSE
SUMMARY:Exploring Career Transition
DESCRIPTION:Have you ever wanted to own your own business but don't know where to start?\n\n\n	In this webinar you'll learn the important steps you need to take to make critical decisions and choose the right business for you.
X-ALT-DESC;FMTTYPE=text/html:<p style="margin: 0px\; padding: 0px\; color: rgb(42\, 47\, 53)\; font-family: Lato\, sans-serif\; font-size: 16px\; background-color: rgb(255\, 255\, 255)\;"><span style="font-family: Arial\, Verdana\, Helvetica\, sans-serif\; font-size: 13px\; color: rgb(0\, 0\, 0)\;">Have you ever wanted to own your own business but don&#39\;t know where to start?</span></p>\n\n<ol style="padding: 0px\; margin: 0px 0px 0px 40px\; color: rgb(42\, 47\, 53)\; font-family: Lato\, sans-serif\; font-size: 16px\; background-color: rgb(255\, 255\, 255)\;">\n	<li style="padding: 0px\; margin: 0px\;"><span style="font-family: Arial\, Verdana\, Helvetica\, sans-serif\; font-size: 13px\; color: rgb(0\, 0\, 0)\;">In this webinar you&#39\;ll learn the important steps you need to take to make critical decisions and choose the right business for you.</span></li>\n</ol>\n
LOCATION:Online
UID:e.3566.1731
SEQUENCE:3
DTSTAMP:20260422T180225Z
URL:https://members.fountaininnchamber.org/events/details/exploring-career-transition-1731
END:VEVENT

END:VCALENDAR
