BEGIN:VCALENDAR
VERSION:2.0
PRODID:-//ChamberMaster//Event Calendar 2.0//EN
METHOD:PUBLISH
X-PUBLISHED-TTL:P3D
REFRESH-INTERVAL:P3D
CALSCALE:GREGORIAN
BEGIN:VEVENT
DTSTART:20230402T190000Z
DTEND:20230402T210000Z
X-MICROSOFT-CDO-ALLDAYEVENT:FALSE
SUMMARY:Fern Sale at Burdette's
DESCRIPTION:Mark your calendars\, grab a friend\, & make your list! It's time for our annual fern sale! Join us on SUNDAY\, April 2\, 2023 from 3-5pm for our exclusive fern shopping experience. We will only be selling ferns and related plant care products during these special hours. Ferns are sold first come\, first serve. We will accept all of our usual forms of payment. We are unable to preorder or hold any ferns. They sell out quickly\, but if there are any left they will be available the following Monday during regular business hours. If you're unable to make it\, send a friend! We do not cap or limit sales. 2023 Varieties: Boston (hanging)\, Macho (hanging)\, Kimberly (potted)\, & Asparagus (hanging)
X-ALT-DESC;FMTTYPE=text/html:Mark your calendars\, grab a friend\, &amp\; make your list! It&#39\;s time for our annual fern sale! Join us on SUNDAY\, April 2\, 2023 from 3-5pm for our exclusive fern shopping experience. We will only be selling ferns and related plant care products during these special hours. Ferns are sold first come\, first serve. We will accept all of our usual forms of payment. We are unable to preorder or hold any ferns. They sell out quickly\, but if there are any left they will be available the following Monday during regular business hours. If you&#39\;re unable to make it\, send a friend! We do not cap or limit sales. 2023 Varieties: Boston (hanging)\, Macho (hanging)\, Kimberly (potted)\, &amp\; Asparagus (hanging)
LOCATION:Burdette Hardware 124 North Main St Fountain Inn\, SC 29644
UID:e.3566.865
SEQUENCE:3
DTSTAMP:20260422T080950Z
URL:https://members.fountaininnchamber.org/events/details/fern-sale-at-burdette-s-865
END:VEVENT

END:VCALENDAR
